Workbook
Name chart_balance: OFFSET(MortgageCalculator!$J$35,2,0,payments,1)
Name chart_balance_noextra: OFFSET(MortgageCalculator!$S$42,2,0,nper,1)
Name chart_date: OFFSET(MortgageCalculator!$B$35,2,0,nper,1)
Name chart_date_noextra: OFFSET(MortgageCalculator!$N$42,2,0,nper,1)
Name chart_nper: ROW(OFFSET(MortgageCalculator!$A$1,0,0,nper,1))
Name chart_ratehist: OFFSET(MortgageCalculator!$D$35,2,0,payments,1)
Name chart_taxreturned: OFFSET(MortgageCalculator!#REF!,2,0,payments,1)
Name compound_period: INDEX({2,12},MATCH(MortgageCalculator!$E$7,compound_periods,0))
Name compound_periods: {"Semi-Annually";"Monthly"}
Name CP: INDEX({2,12},MATCH(MortgageCalculator!$E$7,compound_periods,0))
Name d: MortgageCalculator!$E$6
Name fpdate: MortgageCalculator!$E$6
Name frequency: {"Monthly";"Semi-Monthly";"Bi-Weekly";"Weekly";"Acc Bi-Weekly";"Acc Weekly"}
Name int: MortgageCalculator!$X$4
Name loan_amount: MortgageCalculator!$E$3
Name monthly_payment: -PMT((((1+MortgageCalculator!A1048572/CP)^(CP/12))-1),term*12,loan_amount)
Name months_per_period: INDEX({1,0.5,0.5,0.25,0.5,0.25},MATCH(MortgageCalculator!$E$8,frequency,0))
Name nper: term*periods_per_year
Name payment: MortgageCalculator!$E$9
Name payments: MAX(MortgageCalculator!$A$37:$A$1603)
Name periods_per_year: INDEX({12,24,26,52,26,52},MATCH(MortgageCalculator!$E$8,frequency,0))
Name ppy: periods_per_year
Name start_rate: MortgageCalculator!$E$4
Name term: MortgageCalculator!$E$5
Name valuevx: 42.314159
Name variable: IF(MortgageCalculator!$I$17="Variable Rate",TRUE,FALSE)

Sheet MortgageCalculator
A1: Home Mortgage Calculator | T1: Extra Payments
A2: Mortgage Information | G2: Balance at a Specified Year | W2: Start at Month No | X2: 1
D3: Loan Amount | E3: 150000 | I3: Balance at Year … | J3: 2 | W3: Extra Regular Payment
D4: Annual Interest Rate | E4: 0.03 | W4: Payment Interval | X4: 1
D5: Term Length (in Years) | E5: 25 | W5: Extra Annual Payment
D6: First Payment Date | E6: 43466 | W6: ="Payment Month (1-"&E32&")" -> Payment Month (1-12) | X6: 1
D7: Compound Period | E7: Monthly | I7: Outstanding Balance | J7: =IF(OFFSET(J35,1+J3*periods_per_year,0,1,1)="",0,OFFSET(J35,1+J3*periods_per_year,0,1,1)) -> 141691.93 | W7: Total Extra Payments | X7: =SUM(G37:H1603) -> 0
D8: Payment Frequency | E8: Monthly | J8: [42]
D9: =E8&" Payment" -> Monthly Payment | E9: =(IF($E$8="Acc Bi-Weekly",ROUND((-PMT((((1+MortgageCalculator!E4/CP)^(CP/12))-1),term*12,loan_amount))/2,2),IF($E$8="Acc Weekly",ROUND((-PMT((((1+MortgageCalculator!E4/CP)^(CP/12))-1),term*12,loan_amount))/4,2),ROUND(-PMT(((1+E4/CP)^(CP/periods_per_year))-1,nper,loan_amount),2)))) -> 711.32
D11: Home Value or Price | E11: =loan_amount -> 150000
E29: Totals Assuming No Extra Payments
D30: Total Payments | E30: =SUM(P42:P1604)+SUM(R42:R1604) -> 213394.67
D31: Total Interest | E31: =E30-loan_amount -> 63394.67
D32: Periods Per Year | E32: =periods_per_year -> 12
A34: Payment Schedule
A35: No. | B35: Payment Date | C35: Year | D35: Interest Rate | E35: Interest Due | F35: Payment Due | G35: Extra Payments | H35: Additional Payment | I35: Principal Paid | J35: Balance
J36: =loan_amount -> 150000
A37: =IF(J36="","",IF(OR(A36>=nper,ROUND(J36,2)<=0),"",A36+1)) -> 1 | B37: =IF(A37="","",IF(OR(periods_per_year=26,periods_per_year=52),IF(periods_per_year=26,IF(A37=1,fpdate,B36+14),IF(periods_per_year=52,IF(A37=1,fpdate,B36+7),"n/a")),IF(periods_per_year=24,DATE(YEAR(fpdate),MONTH(fpdate)+(A37-1)/2+IF(AND(DAY(fpdate)>=15,MOD(A37,2)=0),1,0),IF(MOD(A37,2)=0,IF(DAY(fpdate)>=15,DAY(fpdate)-14,DAY(fpdate)+14),DAY(fpdate))),IF(DAY(DATE(YEAR(fpdate),MONTH(fpdate)+A37-1,DAY(fpdate)))<>DAY(fpdate),DATE(YEAR(fpdate),MONTH(fpdate)+A37,0),DATE(YEAR(fpdate),MONTH(fpdate)+A37-1,DAY(fpdate)))))) -> 43466 | C37: =IF(A37="","",IF(MOD(A37,periods_per_year)=0,A37/periods_per_year,"")) | D37: =IF(A37="","",IF(variable,IF(OR(A37=1,A37<$I$18*periods_per_year),start_rate,MIN($I$19,IF(MOD(A37-1,$I$21)=0,MAX($I$20,D36+$I$22),D36))),start_rate)) -> 0.03 | E37: =IF(A37="","",ROUND((((1+D37/CP)^(CP/periods_per_year))-1)*J36,2)) -> 375 | F37: =IF(A37="","",IF(A37=nper,J36+E37,MIN(J36+E37,IF(D37=D36,F36,IF($E$8="Acc Bi-Weekly",ROUND((-PMT(((1+D37/CP)^(CP/12))-1,(nper-A37+1)*12/26,J36))/2,2),IF($E$8="Acc Weekly",ROUND((-PMT(((1+D37/CP)^(CP/12))-1,(nper-A37+1)*12/52,J36))/4,2),ROUND(-PMT(((1+D37/CP)^(CP/periods_per_year))-1,nper-A37+1,J36),2))))))) -> 711.32 | G37: =IF(OR(A37="",A37<$X$2),"",IF(J36<=F37,0,IF(IF(AND(A37>=$X$2,MOD(A37-$X$2,int)=0),$X$3,0)+F37>=J36+E37,J36+E37-F37,IF(AND(A37>=$X$2,MOD(A37-$X$2,int)=0),$X$3,0)+IF(IF(AND(A37>=$X$2,MOD(A37-$X$2,int)=0),$X$3,0)+IF(MOD(A37-$X$6,periods_per_year)=0,$X$5,0)+F37<J36+E37,IF(MOD(A37-$X$6,periods_per_year)=0,$X$5,0),J36+E37-IF(AND(A37>=$X$2,MOD(A37-$X$2,int)=0),$X$3,0)-F37)))) -> 0 | I37: =IF(A37="","",F37-E37+H37+IF(G37="",0,G37)) -> 336.32 | J37: =IF(A37="","",J36-I37) -> 149663.68
A38: =IF(J37="","",IF(OR(A37>=nper,ROUND(J37,2)<=0),"",A37+1)) -> 2 | B38: =IF(A38="","",IF(OR(periods_per_year=26,periods_per_year=52),IF(periods_per_year=26,IF(A38=1,fpdate,B37+14),IF(periods_per_year=52,IF(A38=1,fpdate,B37+7),"n/a")),IF(periods_per_year=24,DATE(YEAR(fpdate),MONTH(fpdate)+(A38-1)/2+IF(AND(DAY(fpdate)>=15,MOD(A38,2)=0),1,0),IF(MOD(A38,2)=0,IF(DAY(fpdate)>=15,DAY(fpdate)-14,DAY(fpdate)+14),DAY(fpdate))),IF(DAY(DATE(YEAR(fpdate),MONTH(fpdate)+A38-1,DAY(fpdate)))<>DAY(fpdate),DATE(YEAR(fpdate),MONTH(fpdate)+A38,0),DATE(YEAR(fpdate),MONTH(fpdate)+A38-1,DAY(fpdate)))))) -> 43497 | C38: =IF(A38="","",IF(MOD(A38,periods_per_year)=0,A38/periods_per_year,"")) | D38: =IF(A38="","",IF(variable,IF(OR(A38=1,A38<$I$18*periods_per_year),start_rate,MIN($I$19,IF(MOD(A38-1,$I$21)=0,MAX($I$20,D37+$I$22),D37))),start_rate)) -> 0.03 | E38: =IF(A38="","",ROUND((((1+D38/CP)^(CP/periods_per_year))-1)*J37,2)) -> 374.16 | F38: =IF(A38="","",IF(A38=nper,J37+E38,MIN(J37+E38,IF(D38=D37,F37,IF($E$8="Acc Bi-Weekly",ROUND((-PMT(((1+D38/CP)^(CP/12))-1,(nper-A38+1)*12/26,J37))/2,2),IF($E$8="Acc Weekly",ROUND((-PMT(((1+D38/CP)^(CP/12))-1,(nper-A38+1)*12/52,J37))/4,2),ROUND(-PMT(((1+D38/CP)^(CP/periods_per_year))-1,nper-A38+1,J37),2))))))) -> 711.32 | G38: =IF(OR(A38="",A38<$X$2),"",IF(J37<=F38,0,IF(IF(AND(A38>=$X$2,MOD(A38-$X$2,int)=0),$X$3,0)+F38>=J37+E38,J37+E38-F38,IF(AND(A38>=$X$2,MOD(A38-$X$2,int)=0),$X$3,0)+IF(IF(AND(A38>=$X$2,MOD(A38-$X$2,int)=0),$X$3,0)+IF(MOD(A38-$X$6,periods_per_year)=0,$X$5,0)+F38<J37+E38,IF(MOD(A38-$X$6,periods_per_year)=0,$X$5,0),J37+E38-IF(AND(A38>=$X$2,MOD(A38-$X$2,int)=0),$X$3,0)-F38)))) -> 0 | I38: =IF(A38="","",F38-E38+H38+IF(G38="",0,G38)) -> 337.16 | J38: =IF(A38="","",J37-I38) -> 149326.52
A39: =IF(J38="","",IF(OR(A38>=nper,ROUND(J38,2)<=0),"",A38+1)) -> 3 | B39: =IF(A39="","",IF(OR(periods_per_year=26,periods_per_year=52),IF(periods_per_year=26,IF(A39=1,fpdate,B38+14),IF(periods_per_year=52,IF(A39=1,fpdate,B38+7),"n/a")),IF(periods_per_year=24,DATE(YEAR(fpdate),MONTH(fpdate)+(A39-1)/2+IF(AND(DAY(fpdate)>=15,MOD(A39,2)=0),1,0),IF(MOD(A39,2)=0,IF(DAY(fpdate)>=15,DAY(fpdate)-14,DAY(fpdate)+14),DAY(fpdate))),IF(DAY(DATE(YEAR(fpdate),MONTH(fpdate)+A39-1,DAY(fpdate)))<>DAY(fpdate),DATE(YEAR(fpdate),MONTH(fpdate)+A39,0),DATE(YEAR(fpdate),MONTH(fpdate)+A39-1,DAY(fpdate)))))) -> 43525 | C39: =IF(A39="","",IF(MOD(A39,periods_per_year)=0,A39/periods_per_year,"")) | D39: =IF(A39="","",IF(variable,IF(OR(A39=1,A39<$I$18*periods_per_year),start_rate,MIN($I$19,IF(MOD(A39-1,$I$21)=0,MAX($I$20,D38+$I$22),D38))),start_rate)) -> 0.03 | E39: =IF(A39="","",ROUND((((1+D39/CP)^(CP/periods_per_year))-1)*J38,2)) -> 373.32 | F39: =IF(A39="","",IF(A39=nper,J38+E39,MIN(J38+E39,IF(D39=D38,F38,IF($E$8="Acc Bi-Weekly",ROUND((-PMT(((1+D39/CP)^(CP/12))-1,(nper-A39+1)*12/26,J38))/2,2),IF($E$8="Acc Weekly",ROUND((-PMT(((1+D39/CP)^(CP/12))-1,(nper-A39+1)*12/52,J38))/4,2),ROUND(-PMT(((1+D39/CP)^(CP/periods_per_year))-1,nper-A39+1,J38),2))))))) -> 711.32 | G39: =IF(OR(A39="",A39<$X$2),"",IF(J38<=F39,0,IF(IF(AND(A39>=$X$2,MOD(A39-$X$2,int)=0),$X$3,0)+F39>=J38+E39,J38+E39-F39,IF(AND(A39>=$X$2,MOD(A39-$X$2,int)=0),$X$3,0)+IF(IF(AND(A39>=$X$2,MOD(A39-$X$2,int)=0),$X$3,0)+IF(MOD(A39-$X$6,periods_per_year)=0,$X$5,0)+F39<J38+E39,IF(MOD(A39-$X$6,periods_per_year)=0,$X$5,0),J38+E39-IF(AND(A39>=$X$2,MOD(A39-$X$2,int)=0),$X$3,0)-F39)))) -> 0 | I39: =IF(A39="","",F39-E39+H39+IF(G39="",0,G39)) -> 338 | J39: =IF(A39="","",J38-I39) -> 148988.52
A40: =IF(J39="","",IF(OR(A39>=nper,ROUND(J39,2)<=0),"",A39+1)) -> 4 | B40: =IF(A40="","",IF(OR(periods_per_year=26,periods_per_year=52),IF(periods_per_year=26,IF(A40=1,fpdate,B39+14),IF(periods_per_year=52,IF(A40=1,fpdate,B39+7),"n/a")),IF(periods_per_year=24,DATE(YEAR(fpdate),MONTH(fpdate)+(A40-1)/2+IF(AND(DAY(fpdate)>=15,MOD(A40,2)=0),1,0),IF(MOD(A40,2)=0,IF(DAY(fpdate)>=15,DAY(fpdate)-14,DAY(fpdate)+14),DAY(fpdate))),IF(DAY(DATE(YEAR(fpdate),MONTH(fpdate)+A40-1,DAY(fpdate)))<>DAY(fpdate),DATE(YEAR(fpdate),MONTH(fpdate)+A40,0),DATE(YEAR(fpdate),MONTH(fpdate)+A40-1,DAY(fpdate)))))) -> 43556 | C40: =IF(A40="","",IF(MOD(A40,periods_per_year)=0,A40/periods_per_year,"")) | D40: =IF(A40="","",IF(variable,IF(OR(A40=1,A40<$I$18*periods_per_year),start_rate,MIN($I$19,IF(MOD(A40-1,$I$21)=0,MAX($I$20,D39+$I$22),D39))),start_rate)) -> 0.03 | E40: =IF(A40="","",ROUND((((1+D40/CP)^(CP/periods_per_year))-1)*J39,2)) -> 372.47 | F40: =IF(A40="","",IF(A40=nper,J39+E40,MIN(J39+E40,IF(D40=D39,F39,IF($E$8="Acc Bi-Weekly",ROUND((-PMT(((1+D40/CP)^(CP/12))-1,(nper-A40+1)*12/26,J39))/2,2),IF($E$8="Acc Weekly",ROUND((-PMT(((1+D40/CP)^(CP/12))-1,(nper-A40+1)*12/52,J39))/4,2),ROUND(-PMT(((1+D40/CP)^(CP/periods_per_year))-1,nper-A40+1,J39),2))))))) -> 711.32 | G40: =IF(OR(A40="",A40<$X$2),"",IF(J39<=F40,0,IF(IF(AND(A40>=$X$2,MOD(A40-$X$2,int)=0),$X$3,0)+F40>=J39+E40,J39+E40-F40,IF(AND(A40>=$X$2,MOD(A40-$X$2,int)=0),$X$3,0)+IF(IF(AND(A40>=$X$2,MOD(A40-$X$2,int)=0),$X$3,0)+IF(MOD(A40-$X$6,periods_per_year)=0,$X$5,0)+F40<J39+E40,IF(MOD(A40-$X$6,periods_per_year)=0,$X$5,0),J39+E40-IF(AND(A40>=$X$2,MOD(A40-$X$2,int)=0),$X$3,0)-F40)))) -> 0 | I40: =IF(A40="","",F40-E40+H40+IF(G40="",0,G40)) -> 338.85 | J40: =IF(A40="","",J39-I40) -> 148649.67
A41: =IF(J40="","",IF(OR(A40>=nper,ROUND(J40,2)<=0),"",A40+1)) -> 5 | B41: =IF(A41="","",IF(OR(periods_per_year=26,periods_per_year=52),IF(periods_per_year=26,IF(A41=1,fpdate,B40+14),IF(periods_per_year=52,IF(A41=1,fpdate,B40+7),"n/a")),IF(periods_per_year=24,DATE(YEAR(fpdate),MONTH(fpdate)+(A41-1)/2+IF(AND(DAY(fpdate)>=15,MOD(A41,2)=0),1,0),IF(MOD(A41,2)=0,IF(DAY(fpdate)>=15,DAY(fpdate)-14,DAY(fpdate)+14),DAY(fpdate))),IF(DAY(DATE(YEAR(fpdate),MONTH(fpdate)+A41-1,DAY(fpdate)))<>DAY(fpdate),DATE(YEAR(fpdate),MONTH(fpdate)+A41,0),DATE(YEAR(fpdate),MONTH(fpdate)+A41-1,DAY(fpdate)))))) -> 43586 | C41: =IF(A41="","",IF(MOD(A41,periods_per_year)=0,A41/periods_per_year,"")) | D41: =IF(A41="","",IF(variable,IF(OR(A41=1,A41<$I$18*periods_per_year),start_rate,MIN($I$19,IF(MOD(A41-1,$I$21)=0,MAX($I$20,D40+$I$22),D40))),start_rate)) -> 0.03 | E41: =IF(A41="","",ROUND((((1+D41/CP)^(CP/periods_per_year))-1)*J40,2)) -> 371.62 | F41: =IF(A41="","",IF(A41=nper,J40+E41,MIN(J40+E41,IF(D41=D40,F40,IF($E$8="Acc Bi-Weekly",ROUND((-PMT(((1+D41/CP)^(CP/12))-1,(nper-A41+1)*12/26,J40))/2,2),IF($E$8="Acc Weekly",ROUND((-PMT(((1+D41/CP)^(CP/12))-1,(nper-A41+1)*12/52,J40))/4,2),ROUND(-PMT(((1+D41/CP)^(CP/periods_per_year))-1,nper-A41+1,J40),2))))))) -> 711.32 | G41: =IF(OR(A41="",A41<$X$2),"",IF(J40<=F41,0,IF(IF(AND(A41>=$X$2,MOD(A41-$X$2,int)=0),$X$3,0)+F41>=J40+E41,J40+E41-F41,IF(AND(A41>=$X$2,MOD(A41-$X$2,int)=0),$X$3,0)+IF(IF(AND(A41>=$X$2,MOD(A41-$X$2,int)=0),$X$3,0)+IF(MOD(A41-$X$6,periods_per_year)=0,$X$5,0)+F41<J40+E41,IF(MOD(A41-$X$6,periods_per_year)=0,$X$5,0),J40+E41-IF(AND(A41>=$X$2,MOD(A41-$X$2,int)=0),$X$3,0)-F41)))) -> 0 | I41: =IF(A41="","",F41-E41+H41+IF(G41="",0,G41)) -> 339.7 | J41: =IF(A41="","",J40-I41) -> 148309.97 | M41: Regular Payment Schedule (No Extra Payments)
A42: =IF(J41="","",IF(OR(A41>=nper,ROUND(J41,2)<=0),"",A41+1)) -> 6 | B42: =IF(A42="","",IF(OR(periods_per_year=26,periods_per_year=52),IF(periods_per_year=26,IF(A42=1,fpdate,B41+14),IF(periods_per_year=52,IF(A42=1,fpdate,B41+7),"n/a")),IF(periods_per_year=24,DATE(YEAR(fpdate),MONTH(fpdate)+(A42-1)/2+IF(AND(DAY(fpdate)>=15,MOD(A42,2)=0),1,0),IF(MOD(A42,2)=0,IF(DAY(fpdate)>=15,DAY(fpdate)-14,DAY(fpdate)+14),DAY(fpdate))),IF(DAY(DATE(YEAR(fpdate),MONTH(fpdate)+A42-1,DAY(fpdate)))<>DAY(fpdate),DATE(YEAR(fpdate),MONTH(fpdate)+A42,0),DATE(YEAR(fpdate),MONTH(fpdate)+A42-1,DAY(fpdate)))))) -> 43617 | C42: =IF(A42="","",IF(MOD(A42,periods_per_year)=0,A42/periods_per_year,"")) | D42: =IF(A42="","",IF(variable,IF(OR(A42=1,A42<$I$18*periods_per_year),start_rate,MIN($I$19,IF(MOD(A42-1,$I$21)=0,MAX($I$20,D41+$I$22),D41))),start_rate)) -> 0.03 | E42: =IF(A42="","",ROUND((((1+D42/CP)^(CP/periods_per_year))-1)*J41,2)) -> 370.77 | F42: =IF(A42="","",IF(A42=nper,J41+E42,MIN(J41+E42,IF(D42=D41,F41,IF($E$8="Acc Bi-Weekly",ROUND((-PMT(((1+D42/CP)^(CP/12))-1,(nper-A42+1)*12/26,J41))/2,2),IF($E$8="Acc Weekly",ROUND((-PMT(((1+D42/CP)^(CP/12))-1,(nper-A42+1)*12/52,J41))/4,2),ROUND(-PMT(((1+D42/CP)^(CP/periods_per_year))-1,nper-A42+1,J41),2))))))) -> 711.32 | G42: =IF(OR(A42="",A42<$X$2),"",IF(J41<=F42,0,IF(IF(AND(A42>=$X$2,MOD(A42-$X$2,int)=0),$X$3,0)+F42>=J41+E42,J41+E42-F42,IF(AND(A42>=$X$2,MOD(A42-$X$2,int)=0),$X$3,0)+IF(IF(AND(A42>=$X$2,MOD(A42-$X$2,int)=0),$X$3,0)+IF(MOD(A42-$X$6,periods_per_year)=0,$X$5,0)+F42<J41+E42,IF(MOD(A42-$X$6,periods_per_year)=0,$X$5,0),J41+E42-IF(AND(A42>=$X$2,MOD(A42-$X$2,int)=0),$X$3,0)-F42)))) -> 0 | I42: =IF(A42="","",F42-E42+H42+IF(G42="",0,G42)) -> 340.55 | J42: =IF(A42="","",J41-I42) -> 147969.42 | M42: No. | N42: Date | O42: Rate | P42: Interest | Q42: Payment | R42: Principal | S42: Balance
A43: =IF(J42="","",IF(OR(A42>=nper,ROUND(J42,2)<=0),"",A42+1)) -> 7 | B43: =IF(A43="","",IF(OR(periods_per_year=26,periods_per_year=52),IF(periods_per_year=26,IF(A43=1,fpdate,B42+14),IF(periods_per_year=52,IF(A43=1,fpdate,B42+7),"n/a")),IF(periods_per_year=24,DATE(YEAR(fpdate),MONTH(fpdate)+(A43-1)/2+IF(AND(DAY(fpdate)>=15,MOD(A43,2)=0),1,0),IF(MOD(A43,2)=0,IF(DAY(fpdate)>=15,DAY(fpdate)-14,DAY(fpdate)+14),DAY(fpdate))),IF(DAY(DATE(YEAR(fpdate),MONTH(fpdate)+A43-1,DAY(fpdate)))<>DAY(fpdate),DATE(YEAR(fpdate),MONTH(fpdate)+A43,0),DATE(YEAR(fpdate),MONTH(fpdate)+A43-1,DAY(fpdate)))))) -> 43647 | C43: =IF(A43="","",IF(MOD(A43,periods_per_year)=0,A43/periods_per_year,"")) | D43: =IF(A43="","",IF(variable,IF(OR(A43=1,A43<$I$18*periods_per_year),start_rate,MIN($I$19,IF(MOD(A43-1,$I$21)=0,MAX($I$20,D42+$I$22),D42))),start_rate)) -> 0.03 | E43: =IF(A43="","",ROUND((((1+D43/CP)^(CP/periods_per_year))-1)*J42,2)) -> 369.92 | F43: =IF(A43="","",IF(A43=nper,J42+E43,MIN(J42+E43,IF(D43=D42,F42,IF($E$8="Acc Bi-Weekly",ROUND((-PMT(((1+D43/CP)^(CP/12))-1,(nper-A43+1)*12/26,J42))/2,2),IF($E$8="Acc Weekly",ROUND((-PMT(((1+D43/CP)^(CP/12))-1,(nper-A43+1)*12/52,J42))/4,2),ROUND(-PMT(((1+D43/CP)^(CP/periods_per_year))-1,nper-A43+1,J42),2))))))) -> 711.32 | G43: =IF(OR(A43="",A43<$X$2),"",IF(J42<=F43,0,IF(IF(AND(A43>=$X$2,MOD(A43-$X$2,int)=0),$X$3,0)+F43>=J42+E43,J42+E43-F43,IF(AND(A43>=$X$2,MOD(A43-$X$2,int)=0),$X$3,0)+IF(IF(AND(A43>=$X$2,MOD(A43-$X$2,int)=0),$X$3,0)+IF(MOD(A43-$X$6,periods_per_year)=0,$X$5,0)+F43<J42+E43,IF(MOD(A43-$X$6,periods_per_year)=0,$X$5,0),J42+E43-IF(AND(A43>=$X$2,MOD(A43-$X$2,int)=0),$X$3,0)-F43)))) -> 0 | I43: =IF(A43="","",F43-E43+H43+IF(G43="",0,G43)) -> 341.4 | J43: =IF(A43="","",J42-I43) -> 147628.02 | S43: =loan_amount -> 150000
A44: =IF(J43="","",IF(OR(A43>=nper,ROUND(J43,2)<=0),"",A43+1)) -> 8 | B44: =IF(A44="","",IF(OR(periods_per_year=26,periods_per_year=52),IF(periods_per_year=26,IF(A44=1,fpdate,B43+14),IF(periods_per_year=52,IF(A44=1,fpdate,B43+7),"n/a")),IF(periods_per_year=24,DATE(YEAR(fpdate),MONTH(fpdate)+(A44-1)/2+IF(AND(DAY(fpdate)>=15,MOD(A44,2)=0),1,0),IF(MOD(A44,2)=0,IF(DAY(fpdate)>=15,DAY(fpdate)-14,DAY(fpdate)+14),DAY(fpdate))),IF(DAY(DATE(YEAR(fpdate),MONTH(fpdate)+A44-1,DAY(fpdate)))<>DAY(fpdate),DATE(YEAR(fpdate),MONTH(fpdate)+A44,0),DATE(YEAR(fpdate),MONTH(fpdate)+A44-1,DAY(fpdate)))))) -> 43678 | C44: =IF(A44="","",IF(MOD(A44,periods_per_year)=0,A44/periods_per_year,"")) | D44: =IF(A44="","",IF(variable,IF(OR(A44=1,A44<$I$18*periods_per_year),start_rate,MIN($I$19,IF(MOD(A44-1,$I$21)=0,MAX($I$20,D43+$I$22),D43))),start_rate)) -> 0.03 | E44: =IF(A44="","",ROUND((((1+D44/CP)^(CP/periods_per_year))-1)*J43,2)) -> 369.07 | F44: =IF(A44="","",IF(A44=nper,J43+E44,MIN(J43+E44,IF(D44=D43,F43,IF($E$8="Acc Bi-Weekly",ROUND((-PMT(((1+D44/CP)^(CP/12))-1,(nper-A44+1)*12/26,J43))/2,2),IF($E$8="Acc Weekly",ROUND((-PMT(((1+D44/CP)^(CP/12))-1,(nper-A44+1)*12/52,J43))/4,2),ROUND(-PMT(((1+D44/CP)^(CP/periods_per_year))-1,nper-A44+1,J43),2))))))) -> 711.32 | G44: =IF(OR(A44="",A44<$X$2),"",IF(J43<=F44,0,IF(IF(AND(A44>=$X$2,MOD(A44-$X$2,int)=0),$X$3,0)+F44>=J43+E44,J43+E44-F44,IF(AND(A44>=$X$2,MOD(A44-$X$2,int)=0),$X$3,0)+IF(IF(AND(A44>=$X$2,MOD(A44-$X$2,int)=0),$X$3,0)+IF(MOD(A44-$X$6,periods_per_year)=0,$X$5,0)+F44<J43+E44,IF(MOD(A44-$X$6,periods_per_year)=0,$X$5,0),J43+E44-IF(AND(A44>=$X$2,MOD(A44-$X$2,int)=0),$X$3,0)-F44)))) -> 0 | I44: =IF(A44="","",F44-E44+H44+IF(G44="",0,G44)) -> 342.25 | J44: =IF(A44="","",J43-I44) -> 147285.77 | M44: =IF(S43="","",IF(OR(M43>=nper,ROUND(S43,2)<=0),"",M43+1)) -> 1 | N44: =IF(M44="","",IF(OR(periods_per_year=26,periods_per_year=52),IF(periods_per_year=26,IF(M44=1,fpdate,N43+14),IF(periods_per_year=52,IF(M44=1,fpdate,N43+7),"n/a")),IF(periods_per_year=24,DATE(YEAR(fpdate),MONTH(fpdate)+(M44-1)/2+IF(AND(DAY(fpdate)>=15,MOD(M44,2)=0),1,0),IF(MOD(M44,2)=0,IF(DAY(fpdate)>=15,DAY(fpdate)-14,DAY(fpdate)+14),DAY(fpdate))),IF(DAY(DATE(YEAR(fpdate),MONTH(fpdate)+M44-1,DAY(fpdate)))<>DAY(fpdate),DATE(YEAR(fpdate),MONTH(fpdate)+M44,0),DATE(YEAR(fpdate),MONTH(fpdate)+M44-1,DAY(fpdate)))))) -> 43466 | O44: =IF(M44="","",IF(variable,IF(M44<MortgageCalculator!$I$18*periods_per_year,start_rate,IF(MortgageCalculator!$I$22>=0,MIN(MortgageCalculator!$I$19,start_rate+MortgageCalculator!$I$22*ROUNDUP((M44-MortgageCalculator!$I$18*periods_per_year)/MortgageCalculator!$I$21,0)),MAX(MortgageCalculator!$I$20,start_rate+MortgageCalculator!$I$22*ROUNDUP((M44-MortgageCalculator!$I$18*periods_per_year)/MortgageCalculator!$I$21,0)))),start_rate)) -> 0.03 | P44: =IF(M44="","",ROUND((((1+O44/CP)^(CP/periods_per_year))-1)*S43,2)) -> 375 | Q44: =IF(M44="","",IF(M44=nper,S43+P44,MIN(S43+P44,IF(O44=O43,Q43,ROUND(-PMT(((1+O44/CP)^(CP/periods_per_year))-1,nper-M44+1,S43),2))))) -> 711.32 | R44: =IF(M44="","",Q44-P44) -> 336.32 | S44: =IF(M44="","",S43-R44) -> 149663.68
A45: =IF(J44="","",IF(OR(A44>=nper,ROUND(J44,2)<=0),"",A44+1)) -> 9 | B45: =IF(A45="","",IF(OR(periods_per_year=26,periods_per_year=52),IF(periods_per_year=26,IF(A45=1,fpdate,B44+14),IF(periods_per_year=52,IF(A45=1,fpdate,B44+7),"n/a")),IF(periods_per_year=24,DATE(YEAR(fpdate),MONTH(fpdate)+(A45-1)/2+IF(AND(DAY(fpdate)>=15,MOD(A45,2)=0),1,0),IF(MOD(A45,2)=0,IF(DAY(fpdate)>=15,DAY(fpdate)-14,DAY(fpdate)+14),DAY(fpdate))),IF(DAY(DATE(YEAR(fpdate),MONTH(fpdate)+A45-1,DAY(fpdate)))<>DAY(fpdate),DATE(YEAR(fpdate),MONTH(fpdate)+A45,0),DATE(YEAR(fpdate),MONTH(fpdate)+A45-1,DAY(fpdate)))))) -> 43709 | C45: =IF(A45="","",IF(MOD(A45,periods_per_year)=0,A45/periods_per_year,"")) | D45: =IF(A45="","",IF(variable,IF(OR(A45=1,A45<$I$18*periods_per_year),start_rate,MIN($I$19,IF(MOD(A45-1,$I$21)=0,MAX($I$20,D44+$I$22),D44))),start_rate)) -> 0.03 | E45: =IF(A45="","",ROUND((((1+D45/CP)^(CP/periods_per_year))-1)*J44,2)) -> 368.21 | F45: =IF(A45="","",IF(A45=nper,J44+E45,MIN(J44+E45,IF(D45=D44,F44,IF($E$8="Acc Bi-Weekly",ROUND((-PMT(((1+D45/CP)^(CP/12))-1,(nper-A45+1)*12/26,J44))/2,2),IF($E$8="Acc Weekly",ROUND((-PMT(((1+D45/CP)^(CP/12))-1,(nper-A45+1)*12/52,J44))/4,2),ROUND(-PMT(((1+D45/CP)^(CP/periods_per_year))-1,nper-A45+1,J44),2))))))) -> 711.32 | G45: =IF(OR(A45="",A45<$X$2),"",IF(J44<=F45,0,IF(IF(AND(A45>=$X$2,MOD(A45-$X$2,int)=0),$X$3,0)+F45>=J44+E45,J44+E45-F45,IF(AND(A45>=$X$2,MOD(A45-$X$2,int)=0),$X$3,0)+IF(IF(AND(A45>=$X$2,MOD(A45-$X$2,int)=0),$X$3,0)+IF(MOD(A45-$X$6,periods_per_year)=0,$X$5,0)+F45<J44+E45,IF(MOD(A45-$X$6,periods_per_year)=0,$X$5,0),J44+E45-IF(AND(A45>=$X$2,MOD(A45-$X$2,int)=0),$X$3,0)-F45)))) -> 0 | I45: =IF(A45="","",F45-E45+H45+IF(G45="",0,G45)) -> 343.11 | J45: =IF(A45="","",J44-I45) -> 146942.66 | M45: =IF(S44="","",IF(OR(M44>=nper,ROUND(S44,2)<=0),"",M44+1)) -> 2 | N45: =IF(M45="","",IF(OR(periods_per_year=26,periods_per_year=52),IF(periods_per_year=26,IF(M45=1,fpdate,N44+14),IF(periods_per_year=52,IF(M45=1,fpdate,N44+7),"n/a")),IF(periods_per_year=24,DATE(YEAR(fpdate),MONTH(fpdate)+(M45-1)/2+IF(AND(DAY(fpdate)>=15,MOD(M45,2)=0),1,0),IF(MOD(M45,2)=0,IF(DAY(fpdate)>=15,DAY(fpdate)-14,DAY(fpdate)+14),DAY(fpdate))),IF(DAY(DATE(YEAR(fpdate),MONTH(fpdate)+M45-1,DAY(fpdate)))<>DAY(fpdate),DATE(YEAR(fpdate),MONTH(fpdate)+M45,0),DATE(YEAR(fpdate),MONTH(fpdate)+M45-1,DAY(fpdate)))))) -> 43497 | O45: =IF(M45="","",IF(variable,IF(M45<MortgageCalculator!$I$18*periods_per_year,start_rate,IF(MortgageCalculator!$I$22>=0,MIN(MortgageCalculator!$I$19,start_rate+MortgageCalculator!$I$22*ROUNDUP((M45-MortgageCalculator!$I$18*periods_per_year)/MortgageCalculator!$I$21,0)),MAX(MortgageCalculator!$I$20,start_rate+MortgageCalculator!$I$22*ROUNDUP((M45-MortgageCalculator!$I$18*periods_per_year)/MortgageCalculator!$I$21,0)))),start_rate)) -> 0.03 | P45: =IF(M45="","",ROUND((((1+O45/CP)^(CP/periods_per_year))-1)*S44,2)) -> 374.16 | Q45: =IF(M45="","",IF(M45=nper,S44+P45,MIN(S44+P45,IF(O45=O44,Q44,ROUND(-PMT(((1+O45/CP)^(CP/periods_per_year))-1,nper-M45+1,S44),2))))) -> 711.32 | R45: =IF(M45="","",Q45-P45) -> 337.16 | S45: =IF(M45="","",S44-R45) -> 149326.52
A46: =IF(J45="","",IF(OR(A45>=nper,ROUND(J45,2)<=0),"",A45+1)) -> 10 | B46: =IF(A46="","",IF(OR(periods_per_year=26,periods_per_year=52),IF(periods_per_year=26,IF(A46=1,fpdate,B45+14),IF(periods_per_year=52,IF(A46=1,fpdate,B45+7),"n/a")),IF(periods_per_year=24,DATE(YEAR(fpdate),MONTH(fpdate)+(A46-1)/2+IF(AND(DAY(fpdate)>=15,MOD(A46,2)=0),1,0),IF(MOD(A46,2)=0,IF(DAY(fpdate)>=15,DAY(fpdate)-14,DAY(fpdate)+14),DAY(fpdate))),IF(DAY(DATE(YEAR(fpdate),MONTH(fpdate)+A46-1,DAY(fpdate)))<>DAY(fpdate),DATE(YEAR(fpdate),MONTH(fpdate)+A46,0),DATE(YEAR(fpdate),MONTH(fpdate)+A46-1,DAY(fpdate)))))) -> 43739 | C46: =IF(A46="","",IF(MOD(A46,periods_per_year)=0,A46/periods_per_year,"")) | D46: =IF(A46="","",IF(variable,IF(OR(A46=1,A46<$I$18*periods_per_year),start_rate,MIN($I$19,IF(MOD(A46-1,$I$21)=0,MAX($I$20,D45+$I$22),D45))),start_rate)) -> 0.03 | E46: =IF(A46="","",ROUND((((1+D46/CP)^(CP/periods_per_year))-1)*J45,2)) -> 367.36 | F46: =IF(A46="","",IF(A46=nper,J45+E46,MIN(J45+E46,IF(D46=D45,F45,IF($E$8="Acc Bi-Weekly",ROUND((-PMT(((1+D46/CP)^(CP/12))-1,(nper-A46+1)*12/26,J45))/2,2),IF($E$8="Acc Weekly",ROUND((-PMT(((1+D46/CP)^(CP/12))-1,(nper-A46+1)*12/52,J45))/4,2),ROUND(-PMT(((1+D46/CP)^(CP/periods_per_year))-1,nper-A46+1,J45),2))))))) -> 711.32 | G46: =IF(OR(A46="",A46<$X$2),"",IF(J45<=F46,0,IF(IF(AND(A46>=$X$2,MOD(A46-$X$2,int)=0),$X$3,0)+F46>=J45+E46,J45+E46-F46,IF(AND(A46>=$X$2,MOD(A46-$X$2,int)=0),$X$3,0)+IF(IF(AND(A46>=$X$2,MOD(A46-$X$2,int)=0),$X$3,0)+IF(MOD(A46-$X$6,periods_per_year)=0,$X$5,0)+F46<J45+E46,IF(MOD(A46-$X$6,periods_per_year)=0,$X$5,0),J45+E46-IF(AND(A46>=$X$2,MOD(A46-$X$2,int)=0),$X$3,0)-F46)))) -> 0 | I46: =IF(A46="","",F46-E46+H46+IF(G46="",0,G46)) -> 343.96 | J46: =IF(A46="","",J45-I46) -> 146598.7 | M46: =IF(S45="","",IF(OR(M45>=nper,ROUND(S45,2)<=0),"",M45+1)) -> 3 | N46: =IF(M46="","",IF(OR(periods_per_year=26,periods_per_year=52),IF(periods_per_year=26,IF(M46=1,fpdate,N45+14),IF(periods_per_year=52,IF(M46=1,fpdate,N45+7),"n/a")),IF(periods_per_year=24,DATE(YEAR(fpdate),MONTH(fpdate)+(M46-1)/2+IF(AND(DAY(fpdate)>=15,MOD(M46,2)=0),1,0),IF(MOD(M46,2)=0,IF(DAY(fpdate)>=15,DAY(fpdate)-14,DAY(fpdate)+14),DAY(fpdate))),IF(DAY(DATE(YEAR(fpdate),MONTH(fpdate)+M46-1,DAY(fpdate)))<>DAY(fpdate),DATE(YEAR(fpdate),MONTH(fpdate)+M46,0),DATE(YEAR(fpdate),MONTH(fpdate)+M46-1,DAY(fpdate)))))) -> 43525 | O46: =IF(M46="","",IF(variable,IF(M46<MortgageCalculator!$I$18*periods_per_year,start_rate,IF(MortgageCalculator!$I$22>=0,MIN(MortgageCalculator!$I$19,start_rate+MortgageCalculator!$I$22*ROUNDUP((M46-MortgageCalculator!$I$18*periods_per_year)/MortgageCalculator!$I$21,0)),MAX(MortgageCalculator!$I$20,start_rate+MortgageCalculator!$I$22*ROUNDUP((M46-MortgageCalculator!$I$18*periods_per_year)/MortgageCalculator!$I$21,0)))),start_rate)) -> 0.03 | P46: =IF(M46="","",ROUND((((1+O46/CP)^(CP/periods_per_year))-1)*S45,2)) -> 373.32 | Q46: =IF(M46="","",IF(M46=nper,S45+P46,MIN(S45+P46,IF(O46=O45,Q45,ROUND(-PMT(((1+O46/CP)^(CP/periods_per_year))-1,nper-M46+1,S45),2))))) -> 711.32 | R46: =IF(M46="","",Q46-P46) -> 338 | S46: =IF(M46="","",S45-R46) -> 148988.52
A47: =IF(J46="","",IF(OR(A46>=nper,ROUND(J46,2)<=0),"",A46+1)) -> 11 | B47: =IF(A47="","",IF(OR(periods_per_year=26,periods_per_year=52),IF(periods_per_year=26,IF(A47=1,fpdate,B46+14),IF(periods_per_year=52,IF(A47=1,fpdate,B46+7),"n/a")),IF(periods_per_year=24,DATE(YEAR(fpdate),MONTH(fpdate)+(A47-1)/2+IF(AND(DAY(fpdate)>=15,MOD(A47,2)=0),1,0),IF(MOD(A47,2)=0,IF(DAY(fpdate)>=15,DAY(fpdate)-14,DAY(fpdate)+14),DAY(fpdate))),IF(DAY(DATE(YEAR(fpdate),MONTH(fpdate)+A47-1,DAY(fpdate)))<>DAY(fpdate),DATE(YEAR(fpdate),MONTH(fpdate)+A47,0),DATE(YEAR(fpdate),MONTH(fpdate)+A47-1,DAY(fpdate)))))) -> 43770 | C47: =IF(A47="","",IF(MOD(A47,periods_per_year)=0,A47/periods_per_year,"")) | D47: =IF(A47="","",IF(variable,IF(OR(A47=1,A47<$I$18*periods_per_year),start_rate,MIN($I$19,IF(MOD(A47-1,$I$21)=0,MAX($I$20,D46+$I$22),D46))),start_rate)) -> 0.03 | E47: =IF(A47="","",ROUND((((1+D47/CP)^(CP/periods_per_year))-1)*J46,2)) -> 366.5 | F47: =IF(A47="","",IF(A47=nper,J46+E47,MIN(J46+E47,IF(D47=D46,F46,IF($E$8="Acc Bi-Weekly",ROUND((-PMT(((1+D47/CP)^(CP/12))-1,(nper-A47+1)*12/26,J46))/2,2),IF($E$8="Acc Weekly",ROUND((-PMT(((1+D47/CP)^(CP/12))-1,(nper-A47+1)*12/52,J46))/4,2),ROUND(-PMT(((1+D47/CP)^(CP/periods_per_year))-1,nper-A47+1,J46),2))))))) -> 711.32 | G47: =IF(OR(A47="",A47<$X$2),"",IF(J46<=F47,0,IF(IF(AND(A47>=$X$2,MOD(A47-$X$2,int)=0),$X$3,0)+F47>=J46+E47,J46+E47-F47,IF(AND(A47>=$X$2,MOD(A47-$X$2,int)=0),$X$3,0)+IF(IF(AND(A47>=$X$2,MOD(A47-$X$2,int)=0),$X$3,0)+IF(MOD(A47-$X$6,periods_per_year)=0,$X$5,0)+F47<J46+E47,IF(MOD(A47-$X$6,periods_per_year)=0,$X$5,0),J46+E47-IF(AND(A47>=$X$2,MOD(A47-$X$2,int)=0),$X$3,0)-F47)))) -> 0 | I47: =IF(A47="","",F47-E47+H47+IF(G47="",0,G47)) -> 344.82 | J47: =IF(A47="","",J46-I47) -> 146253.88 | M47: =IF(S46="","",IF(OR(M46>=nper,ROUND(S46,2)<=0),"",M46+1)) -> 4 | N47: =IF(M47="","",IF(OR(periods_per_year=26,periods_per_year=52),IF(periods_per_year=26,IF(M47=1,fpdate,N46+14),IF(periods_per_year=52,IF(M47=1,fpdate,N46+7),"n/a")),IF(periods_per_year=24,DATE(YEAR(fpdate),MONTH(fpdate)+(M47-1)/2+IF(AND(DAY(fpdate)>=15,MOD(M47,2)=0),1,0),IF(MOD(M47,2)=0,IF(DAY(fpdate)>=15,DAY(fpdate)-14,DAY(fpdate)+14),DAY(fpdate))),IF(DAY(DATE(YEAR(fpdate),MONTH(fpdate)+M47-1,DAY(fpdate)))<>DAY(fpdate),DATE(YEAR(fpdate),MONTH(fpdate)+M47,0),DATE(YEAR(fpdate),MONTH(fpdate)+M47-1,DAY(fpdate)))))) -> 43556 | O47: =IF(M47="","",IF(variable,IF(M47<MortgageCalculator!$I$18*periods_per_year,start_rate,IF(MortgageCalculator!$I$22>=0,MIN(MortgageCalculator!$I$19,start_rate+MortgageCalculator!$I$22*ROUNDUP((M47-MortgageCalculator!$I$18*periods_per_year)/MortgageCalculator!$I$21,0)),MAX(MortgageCalculator!$I$20,start_rate+MortgageCalculator!$I$22*ROUNDUP((M47-MortgageCalculator!$I$18*periods_per_year)/MortgageCalculator!$I$21,0)))),start_rate)) -> 0.03 | P47: =IF(M47="","",ROUND((((1+O47/CP)^(CP/periods_per_year))-1)*S46,2)) -> 372.47 | Q47: =IF(M47="","",IF(M47=nper,S46+P47,MIN(S46+P47,IF(O47=O46,Q46,ROUND(-PMT(((1+O47/CP)^(CP/periods_per_year))-1,nper-M47+1,S46),2))))) -> 711.32 | R47: =IF(M47="","",Q47-P47) -> 338.85 | S47: =IF(M47="","",S46-R47) -> 148649.67
A48: =IF(J47="","",IF(OR(A47>=nper,ROUND(J47,2)<=0),"",A47+1)) -> 12 | B48: =IF(A48="","",IF(OR(periods_per_year=26,periods_per_year=52),IF(periods_per_year=26,IF(A48=1,fpdate,B47+14),IF(periods_per_year=52,IF(A48=1,fpdate,B47+7),"n/a")),IF(periods_per_year=24,DATE(YEAR(fpdate),MONTH(fpdate)+(A48-1)/2+IF(AND(DAY(fpdate)>=15,MOD(A48,2)=0),1,0),IF(MOD(A48,2)=0,IF(DAY(fpdate)>=15,DAY(fpdate)-14,DAY(fpdate)+14),DAY(fpdate))),IF(DAY(DATE(YEAR(fpdate),MONTH(fpdate)+A48-1,DAY(fpdate)))<>DAY(fpdate),DATE(YEAR(fpdate),MONTH(fpdate)+A48,0),DATE(YEAR(fpdate),MONTH(fpdate)+A48-1,DAY(fpdate)))))) -> 43800 | C48: =IF(A48="","",IF(MOD(A48,periods_per_year)=0,A48/periods_per_year,"")) -> 1 | D48: =IF(A48="","",IF(variable,IF(OR(A48=1,A48<$I$18*periods_per_year),start_rate,MIN($I$19,IF(MOD(A48-1,$I$21)=0,MAX($I$20,D47+$I$22),D47))),start_rate)) -> 0.03 | E48: =IF(A48="","",ROUND((((1+D48/CP)^(CP/periods_per_year))-1)*J47,2)) -> 365.63 | F48: =IF(A48="","",IF(A48=nper,J47+E48,MIN(J47+E48,IF(D48=D47,F47,IF($E$8="Acc Bi-Weekly",ROUND((-PMT(((1+D48/CP)^(CP/12))-1,(nper-A48+1)*12/26,J47))/2,2),IF($E$8="Acc Weekly",ROUND((-PMT(((1+D48/CP)^(CP/12))-1,(nper-A48+1)*12/52,J47))/4,2),ROUND(-PMT(((1+D48/CP)^(CP/periods_per_year))-1,nper-A48+1,J47),2))))))) -> 711.32 | G48: =IF(OR(A48="",A48<$X$2),"",IF(J47<=F48,0,IF(IF(AND(A48>=$X$2,MOD(A48-$X$2,int)=0),$X$3,0)+F48>=J47+E48,J47+E48-F48,IF(AND(A48>=$X$2,MOD(A48-$X$2,int)=0),$X$3,0)+IF(IF(AND(A48>=$X$2,MOD(A48-$X$2,int)=0),$X$3,0)+IF(MOD(A48-$X$6,periods_per_year)=0,$X$5,0)+F48<J47+E48,IF(MOD(A48-$X$6,periods_per_year)=0,$X$5,0),J47+E48-IF(AND(A48>=$X$2,MOD(A48-$X$2,int)=0),$X$3,0)-F48)))) -> 0 | I48: =IF(A48="","",F48-E48+H48+IF(G48="",0,G48)) -> 345.69 | J48: =IF(A48="","",J47-I48) -> 145908.19 | M48: =IF(S47="","",IF(OR(M47>=nper,ROUND(S47,2)<=0),"",M47+1)) -> 5 | N48: =IF(M48="","",IF(OR(periods_per_year=26,periods_per_year=52),IF(periods_per_year=26,IF(M48=1,fpdate,N47+14),IF(periods_per_year=52,IF(M48=1,fpdate,N47+7),"n/a")),IF(periods_per_year=24,DATE(YEAR(fpdate),MONTH(fpdate)+(M48-1)/2+IF(AND(DAY(fpdate)>=15,MOD(M48,2)=0),1,0),IF(MOD(M48,2)=0,IF(DAY(fpdate)>=15,DAY(fpdate)-14,DAY(fpdate)+14),DAY(fpdate))),IF(DAY(DATE(YEAR(fpdate),MONTH(fpdate)+M48-1,DAY(fpdate)))<>DAY(fpdate),DATE(YEAR(fpdate),MONTH(fpdate)+M48,0),DATE(YEAR(fpdate),MONTH(fpdate)+M48-1,DAY(fpdate)))))) -> 43586 | O48: =IF(M48="","",IF(variable,IF(M48<MortgageCalculator!$I$18*periods_per_year,start_rate,IF(MortgageCalculator!$I$22>=0,MIN(MortgageCalculator!$I$19,start_rate+MortgageCalculator!$I$22*ROUNDUP((M48-MortgageCalculator!$I$18*periods_per_year)/MortgageCalculator!$I$21,0)),MAX(MortgageCalculator!$I$20,start_rate+MortgageCalculator!$I$22*ROUNDUP((M48-MortgageCalculator!$I$18*periods_per_year)/MortgageCalculator!$I$21,0)))),start_rate)) -> 0.03 | P48: =IF(M48="","",ROUND((((1+O48/CP)^(CP/periods_per_year))-1)*S47,2)) -> 371.62 | Q48: =IF(M48="","",IF(M48=nper,S47+P48,MIN(S47+P48,IF(O48=O47,Q47,ROUND(-PMT(((1+O48/CP)^(CP/periods_per_year))-1,nper-M48+1,S47),2))))) -> 711.32 | R48: =IF(M48="","",Q48-P48) -> 339.7 | S48: =IF(M48="","",S47-R48) -> 148309.97
A49: =IF(J48="","",IF(OR(A48>=nper,ROUND(J48,2)<=0),"",A48+1)) -> 13 | B49: =IF(A49="","",IF(OR(periods_per_year=26,periods_per_year=52),IF(periods_per_year=26,IF(A49=1,fpdate,B48+14),IF(periods_per_year=52,IF(A49=1,fpdate,B48+7),"n/a")),IF(periods_per_year=24,DATE(YEAR(fpdate),MONTH(fpdate)+(A49-1)/2+IF(AND(DAY(fpdate)>=15,MOD(A49,2)=0),1,0),IF(MOD(A49,2)=0,IF(DAY(fpdate)>=15,DAY(fpdate)-14,DAY(fpdate)+14),DAY(fpdate))),IF(DAY(DATE(YEAR(fpdate),MONTH(fpdate)+A49-1,DAY(fpdate)))<>DAY(fpdate),DATE(YEAR(fpdate),MONTH(fpdate)+A49,0),DATE(YEAR(fpdate),MONTH(fpdate)+A49-1,DAY(fpdate)))))) -> 43831 | C49: =IF(A49="","",IF(MOD(A49,periods_per_year)=0,A49/periods_per_year,"")) | D49: =IF(A49="","",IF(variable,IF(OR(A49=1,A49<$I$18*periods_per_year),start_rate,MIN($I$19,IF(MOD(A49-1,$I$21)=0,MAX($I$20,D48+$I$22),D48))),start_rate)) -> 0.03 | E49: =IF(A49="","",ROUND((((1+D49/CP)^(CP/periods_per_year))-1)*J48,2)) -> 364.77 | F49: =IF(A49="","",IF(A49=nper,J48+E49,MIN(J48+E49,IF(D49=D48,F48,IF($E$8="Acc Bi-Weekly",ROUND((-PMT(((1+D49/CP)^(CP/12))-1,(nper-A49+1)*12/26,J48))/2,2),IF($E$8="Acc Weekly",ROUND((-PMT(((1+D49/CP)^(CP/12))-1,(nper-A49+1)*12/52,J48))/4,2),ROUND(-PMT(((1+D49/CP)^(CP/periods_per_year))-1,nper-A49+1,J48),2))))))) -> 711.32 | G49: =IF(OR(A49="",A49<$X$2),"",IF(J48<=F49,0,IF(IF(AND(A49>=$X$2,MOD(A49-$X$2,int)=0),$X$3,0)+F49>=J48+E49,J48+E49-F49,IF(AND(A49>=$X$2,MOD(A49-$X$2,int)=0),$X$3,0)+IF(IF(AND(A49>=$X$2,MOD(A49-$X$2,int)=0),$X$3,0)+IF(MOD(A49-$X$6,periods_per_year)=0,$X$5,0)+F49<J48+E49,IF(MOD(A49-$X$6,periods_per_year)=0,$X$5,0),J48+E49-IF(AND(A49>=$X$2,MOD(A49-$X$2,int)=0),$X$3,0)-F49)))) -> 0 | I49: =IF(A49="","",F49-E49+H49+IF(G49="",0,G49)) -> 346.55 | J49: =IF(A49="","",J48-I49) -> 145561.64 | M49: =IF(S48="","",IF(OR(M48>=nper,ROUND(S48,2)<=0),"",M48+1)) -> 6 | N49: =IF(M49="","",IF(OR(periods_per_year=26,periods_per_year=52),IF(periods_per_year=26,IF(M49=1,fpdate,N48+14),IF(periods_per_year=52,IF(M49=1,fpdate,N48+7),"n/a")),IF(periods_per_year=24,DATE(YEAR(fpdate),MONTH(fpdate)+(M49-1)/2+IF(AND(DAY(fpdate)>=15,MOD(M49,2)=0),1,0),IF(MOD(M49,2)=0,IF(DAY(fpdate)>=15,DAY(fpdate)-14,DAY(fpdate)+14),DAY(fpdate))),IF(DAY(DATE(YEAR(fpdate),MONTH(fpdate)+M49-1,DAY(fpdate)))<>DAY(fpdate),DATE(YEAR(fpdate),MONTH(fpdate)+M49,0),DATE(YEAR(fpdate),MONTH(fpdate)+M49-1,DAY(fpdate)))))) -> 43617 | O49: =IF(M49="","",IF(variable,IF(M49<MortgageCalculator!$I$18*periods_per_year,start_rate,IF(MortgageCalculator!$I$22>=0,MIN(MortgageCalculator!$I$19,start_rate+MortgageCalculator!$I$22*ROUNDUP((M49-MortgageCalculator!$I$18*periods_per_year)/MortgageCalculator!$I$21,0)),MAX(MortgageCalculator!$I$20,start_rate+MortgageCalculator!$I$22*ROUNDUP((M49-MortgageCalculator!$I$18*periods_per_year)/MortgageCalculator!$I$21,0)))),start_rate)) -> 0.03 | P49: =IF(M49="","",ROUND((((1+O49/CP)^(CP/periods_per_year))-1)*S48,2)) -> 370.77 | Q49: =IF(M49="","",IF(M49=nper,S48+P49,MIN(S48+P49,IF(O49=O48,Q48,ROUND(-PMT(((1+O49/CP)^(CP/periods_per_year))-1,nper-M49+1,S48),2))))) -> 711.32 | R49: =IF(M49="","",Q49-P49) -> 340.55 | S49: =IF(M49="","",S48-R49) -> 147969.42
A50: =IF(J49="","",IF(OR(A49>=nper,ROUND(J49,2)<=0),"",A49+1)) -> 14 | B50: =IF(A50="","",IF(OR(periods_per_year=26,periods_per_year=52),IF(periods_per_year=26,IF(A50=1,fpdate,B49+14),IF(periods_per_year=52,IF(A50=1,fpdate,B49+7),"n/a")),IF(periods_per_year=24,DATE(YEAR(fpdate),MONTH(fpdate)+(A50-1)/2+IF(AND(DAY(fpdate)>=15,MOD(A50,2)=0),1,0),IF(MOD(A50,2)=0,IF(DAY(fpdate)>=15,DAY(fpdate)-14,DAY(fpdate)+14),DAY(fpdate))),IF(DAY(DATE(YEAR(fpdate),MONTH(fpdate)+A50-1,DAY(fpdate)))<>DAY(fpdate),DATE(YEAR(fpdate),MONTH(fpdate)+A50,0),DATE(YEAR(fpdate),MONTH(fpdate)+A50-1,DAY(fpdate)))))) -> 43862 | C50: =IF(A50="","",IF(MOD(A50,periods_per_year)=0,A50/periods_per_year,"")) | D50: =IF(A50="","",IF(variable,IF(OR(A50=1,A50<$I$18*periods_per_year),start_rate,MIN($I$19,IF(MOD(A50-1,$I$21)=0,MAX($I$20,D49+$I$22),D49))),start_rate)) -> 0.03 | E50: =IF(A50="","",ROUND((((1+D50/CP)^(CP/periods_per_year))-1)*J49,2)) -> 363.9 | F50: =IF(A50="","",IF(A50=nper,J49+E50,MIN(J49+E50,IF(D50=D49,F49,IF($E$8="Acc Bi-Weekly",ROUND((-PMT(((1+D50/CP)^(CP/12))-1,(nper-A50+1)*12/26,J49))/2,2),IF($E$8="Acc Weekly",ROUND((-PMT(((1+D50/CP)^(CP/12))-1,(nper-A50+1)*12/52,J49))/4,2),ROUND(-PMT(((1+D50/CP)^(CP/periods_per_year))-1,nper-A50+1,J49),2))))))) -> 711.32 | G50: =IF(OR(A50="",A50<$X$2),"",IF(J49<=F50,0,IF(IF(AND(A50>=$X$2,MOD(A50-$X$2,int)=0),$X$3,0)+F50>=J49+E50,J49+E50-F50,IF(AND(A50>=$X$2,MOD(A50-$X$2,int)=0),$X$3,0)+IF(IF(AND(A50>=$X$2,MOD(A50-$X$2,int)=0),$X$3,0)+IF(MOD(A50-$X$6,periods_per_year)=0,$X$5,0)+F50<J49+E50,IF(MOD(A50-$X$6,periods_per_year)=0,$X$5,0),J49+E50-IF(AND(A50>=$X$2,MOD(A50-$X$2,int)=0),$X$3,0)-F50)))) -> 0 | I50: =IF(A50="","",F50-E50+H50+IF(G50="",0,G50)) -> 347.42 | J50: =IF(A50="","",J49-I50) -> 145214.22 | M50: =IF(S49="","",IF(OR(M49>=nper,ROUND(S49,2)<=0),"",M49+1)) -> 7 | N50: =IF(M50="","",IF(OR(periods_per_year=26,periods_per_year=52),IF(periods_per_year=26,IF(M50=1,fpdate,N49+14),IF(periods_per_year=52,IF(M50=1,fpdate,N49+7),"n/a")),IF(periods_per_year=24,DATE(YEAR(fpdate),MONTH(fpdate)+(M50-1)/2+IF(AND(DAY(fpdate)>=15,MOD(M50,2)=0),1,0),IF(MOD(M50,2)=0,IF(DAY(fpdate)>=15,DAY(fpdate)-14,DAY(fpdate)+14),DAY(fpdate))),IF(DAY(DATE(YEAR(fpdate),MONTH(fpdate)+M50-1,DAY(fpdate)))<>DAY(fpdate),DATE(YEAR(fpdate),MONTH(fpdate)+M50,0),DATE(YEAR(fpdate),MONTH(fpdate)+M50-1,DAY(fpdate)))))) -> 43647 | O50: =IF(M50="","",IF(variable,IF(M50<MortgageCalculator!$I$18*periods_per_year,start_rate,IF(MortgageCalculator!$I$22>=0,MIN(MortgageCalculator!$I$19,start_rate+MortgageCalculator!$I$22*ROUNDUP((M50-MortgageCalculator!$I$18*periods_per_year)/MortgageCalculator!$I$21,0)),MAX(MortgageCalculator!$I$20,start_rate+MortgageCalculator!$I$22*ROUNDUP((M50-MortgageCalculator!$I$18*periods_per_year)/MortgageCalculator!$I$21,0)))),start_rate)) -> 0.03 | P50: =IF(M50="","",ROUND((((1+O50/CP)^(CP/periods_per_year))-1)*S49,2)) -> 369.92 | Q50: =IF(M50="","",IF(M50=nper,S49+P50,MIN(S49+P50,IF(O50=O49,Q49,ROUND(-PMT(((1+O50/CP)^(CP/periods_per_year))-1,nper-M50+1,S49),2))))) -> 711.32 | R50: =IF(M50="","",Q50-P50) -> 341.4 | S50: =IF(M50="","",S49-R50) -> 147628.02
A51: =IF(J50="","",IF(OR(A50>=nper,ROUND(J50,2)<=0),"",A50+1)) -> 15 | B51: =IF(A51="","",IF(OR(periods_per_year=26,periods_per_year=52),IF(periods_per_year=26,IF(A51=1,fpdate,B50+14),IF(periods_per_year=52,IF(A51=1,fpdate,B50+7),"n/a")),IF(periods_per_year=24,DATE(YEAR(fpdate),MONTH(fpdate)+(A51-1)/2+IF(AND(DAY(fpdate)>=15,MOD(A51,2)=0),1,0),IF(MOD(A51,2)=0,IF(DAY(fpdate)>=15,DAY(fpdate)-14,DAY(fpdate)+14),DAY(fpdate))),IF(DAY(DATE(YEAR(fpdate),MONTH(fpdate)+A51-1,DAY(fpdate)))<>DAY(fpdate),DATE(YEAR(fpdate),MONTH(fpdate)+A51,0),DATE(YEAR(fpdate),MONTH(fpdate)+A51-1,DAY(fpdate)))))) -> 43891 | C51: =IF(A51="","",IF(MOD(A51,periods_per_year)=0,A51/periods_per_year,"")) | D51: =IF(A51="","",IF(variable,IF(OR(A51=1,A51<$I$18*periods_per_year),start_rate,MIN($I$19,IF(MOD(A51-1,$I$21)=0,MAX($I$20,D50+$I$22),D50))),start_rate)) -> 0.03 | E51: =IF(A51="","",ROUND((((1+D51/CP)^(CP/periods_per_year))-1)*J50,2)) -> 363.04 | F51: =IF(A51="","",IF(A51=nper,J50+E51,MIN(J50+E51,IF(D51=D50,F50,IF($E$8="Acc Bi-Weekly",ROUND((-PMT(((1+D51/CP)^(CP/12))-1,(nper-A51+1)*12/26,J50))/2,2),IF($E$8="Acc Weekly",ROUND((-PMT(((1+D51/CP)^(CP/12))-1,(nper-A51+1)*12/52,J50))/4,2),ROUND(-PMT(((1+D51/CP)^(CP/periods_per_year))-1,nper-A51+1,J50),2))))))) -> 711.32 | G51: =IF(OR(A51="",A51<$X$2),"",IF(J50<=F51,0,IF(IF(AND(A51>=$X$2,MOD(A51-$X$2,int)=0),$X$3,0)+F51>=J50+E51,J50+E51-F51,IF(AND(A51>=$X$2,MOD(A51-$X$2,int)=0),$X$3,0)+IF(IF(AND(A51>=$X$2,MOD(A51-$X$2,int)=0),$X$3,0)+IF(MOD(A51-$X$6,periods_per_year)=0,$X$5,0)+F51<J50+E51,IF(MOD(A51-$X$6,periods_per_year)=0,$X$5,0),J50+E51-IF(AND(A51>=$X$2,MOD(A51-$X$2,int)=0),$X$3,0)-F51)))) -> 0 | I51: =IF(A51="","",F51-E51+H51+IF(G51="",0,G51)) -> 348.28 | J51: =IF(A51="","",J50-I51) -> 144865.94 | M51: =IF(S50="","",IF(OR(M50>=nper,ROUND(S50,2)<=0),"",M50+1)) -> 8 | N51: =IF(M51="","",IF(OR(periods_per_year=26,periods_per_year=52),IF(periods_per_year=26,IF(M51=1,fpdate,N50+14),IF(periods_per_year=52,IF(M51=1,fpdate,N50+7),"n/a")),IF(periods_per_year=24,DATE(YEAR(fpdate),MONTH(fpdate)+(M51-1)/2+IF(AND(DAY(fpdate)>=15,MOD(M51,2)=0),1,0),IF(MOD(M51,2)=0,IF(DAY(fpdate)>=15,DAY(fpdate)-14,DAY(fpdate)+14),DAY(fpdate))),IF(DAY(DATE(YEAR(fpdate),MONTH(fpdate)+M51-1,DAY(fpdate)))<>DAY(fpdate),DATE(YEAR(fpdate),MONTH(fpdate)+M51,0),DATE(YEAR(fpdate),MONTH(fpdate)+M51-1,DAY(fpdate)))))) -> 43678 | O51: =IF(M51="","",IF(variable,IF(M51<MortgageCalculator!$I$18*periods_per_year,start_rate,IF(MortgageCalculator!$I$22>=0,MIN(MortgageCalculator!$I$19,start_rate+MortgageCalculator!$I$22*ROUNDUP((M51-MortgageCalculator!$I$18*periods_per_year)/MortgageCalculator!$I$21,0)),MAX(MortgageCalculator!$I$20,start_rate+MortgageCalculator!$I$22*ROUNDUP((M51-MortgageCalculator!$I$18*periods_per_year)/MortgageCalculator!$I$21,0)))),start_rate)) -> 0.03 | P51: =IF(M51="","",ROUND((((1+O51/CP)^(CP/periods_per_year))-1)*S50,2)) -> 369.07 | Q51: =IF(M51="","",IF(M51=nper,S50+P51,MIN(S50+P51,IF(O51=O50,Q50,ROUND(-PMT(((1+O51/CP)^(CP/periods_per_year))-1,nper-M51+1,S50),2))))) -> 711.32 | R51: =IF(M51="","",Q51-P51) -> 342.25 | S51: =IF(M51="","",S50-R51) -> 147285.77
A52: =IF(J51="","",IF(OR(A51>=nper,ROUND(J51,2)<=0),"",A51+1)) -> 16 | B52: =IF(A52="","",IF(OR(periods_per_year=26,periods_per_year=52),IF(periods_per_year=26,IF(A52=1,fpdate,B51+14),IF(periods_per_year=52,IF(A52=1,fpdate,B51+7),"n/a")),IF(periods_per_year=24,DATE(YEAR(fpdate),MONTH(fpdate)+(A52-1)/2+IF(AND(DAY(fpdate)>=15,MOD(A52,2)=0),1,0),IF(MOD(A52,2)=0,IF(DAY(fpdate)>=15,DAY(fpdate)-14,DAY(fpdate)+14),DAY(fpdate))),IF(DAY(DATE(YEAR(fpdate),MONTH(fpdate)+A52-1,DAY(fpdate)))<>DAY(fpdate),DATE(YEAR(fpdate),MONTH(fpdate)+A52,0),DATE(YEAR(fpdate),MONTH(fpdate)+A52-1,DAY(fpdate)))))) -> 43922 | C52: =IF(A52="","",IF(MOD(A52,periods_per_year)=0,A52/periods_per_year,"")) | D52: =IF(A52="","",IF(variable,IF(OR(A52=1,A52<$I$18*periods_per_year),start_rate,MIN($I$19,IF(MOD(A52-1,$I$21)=0,MAX($I$20,D51+$I$22),D51))),start_rate)) -> 0.03 | E52: =IF(A52="","",ROUND((((1+D52/CP)^(CP/periods_per_year))-1)*J51,2)) -> 362.16 | F52: =IF(A52="","",IF(A52=nper,J51+E52,MIN(J51+E52,IF(D52=D51,F51,IF($E$8="Acc Bi-Weekly",ROUND((-PMT(((1+D52/CP)^(CP/12))-1,(nper-A52+1)*12/26,J51))/2,2),IF($E$8="Acc Weekly",ROUND((-PMT(((1+D52/CP)^(CP/12))-1,(nper-A52+1)*12/52,J51))/4,2),ROUND(-PMT(((1+D52/CP)^(CP/periods_per_year))-1,nper-A52+1,J51),2))))))) -> 711.32 | G52: =IF(OR(A52="",A52<$X$2),"",IF(J51<=F52,0,IF(IF(AND(A52>=$X$2,MOD(A52-$X$2,int)=0),$X$3,0)+F52>=J51+E52,J51+E52-F52,IF(AND(A52>=$X$2,MOD(A52-$X$2,int)=0),$X$3,0)+IF(IF(AND(A52>=$X$2,MOD(A52-$X$2,int)=0),$X$3,0)+IF(MOD(A52-$X$6,periods_per_year)=0,$X$5,0)+F52<J51+E52,IF(MOD(A52-$X$6,periods_per_year)=0,$X$5,0),J51+E52-IF(AND(A52>=$X$2,MOD(A52-$X$2,int)=0),$X$3,0)-F52)))) -> 0 | I52: =IF(A52="","",F52-E52+H52+IF(G52="",0,G52)) -> 349.16 | J52: =IF(A52="","",J51-I52) -> 144516.78 | M52: =IF(S51="","",IF(OR(M51>=nper,ROUND(S51,2)<=0),"",M51+1)) -> 9 | N52: =IF(M52="","",IF(OR(periods_per_year=26,periods_per_year=52),IF(periods_per_year=26,IF(M52=1,fpdate,N51+14),IF(periods_per_year=52,IF(M52=1,fpdate,N51+7),"n/a")),IF(periods_per_year=24,DATE(YEAR(fpdate),MONTH(fpdate)+(M52-1)/2+IF(AND(DAY(fpdate)>=15,MOD(M52,2)=0),1,0),IF(MOD(M52,2)=0,IF(DAY(fpdate)>=15,DAY(fpdate)-14,DAY(fpdate)+14),DAY(fpdate))),IF(DAY(DATE(YEAR(fpdate),MONTH(fpdate)+M52-1,DAY(fpdate)))<>DAY(fpdate),DATE(YEAR(fpdate),MONTH(fpdate)+M52,0),DATE(YEAR(fpdate),MONTH(fpdate)+M52-1,DAY(fpdate)))))) -> 43709 | O52: =IF(M52="","",IF(variable,IF(M52<MortgageCalculator!$I$18*periods_per_year,start_rate,IF(MortgageCalculator!$I$22>=0,MIN(MortgageCalculator!$I$19,start_rate+MortgageCalculator!$I$22*ROUNDUP((M52-MortgageCalculator!$I$18*periods_per_year)/MortgageCalculator!$I$21,0)),MAX(MortgageCalculator!$I$20,start_rate+MortgageCalculator!$I$22*ROUNDUP((M52-MortgageCalculator!$I$18*periods_per_year)/MortgageCalculator!$I$21,0)))),start_rate)) -> 0.03 | P52: =IF(M52="","",ROUND((((1+O52/CP)^(CP/periods_per_year))-1)*S51,2)) -> 368.21 | Q52: =IF(M52="","",IF(M52=nper,S51+P52,MIN(S51+P52,IF(O52=O51,Q51,ROUND(-PMT(((1+O52/CP)^(CP/periods_per_year))-1,nper-M52+1,S51),2))))) -> 711.32 | R52: =IF(M52="","",Q52-P52) -> 343.11 | S52: =IF(M52="","",S51-R52) -> 146942.66
A53: =IF(J52="","",IF(OR(A52>=nper,ROUND(J52,2)<=0),"",A52+1)) -> 17 | B53: =IF(A53="","",IF(OR(periods_per_year=26,periods_per_year=52),IF(periods_per_year=26,IF(A53=1,fpdate,B52+14),IF(periods_per_year=52,IF(A53=1,fpdate,B52+7),"n/a")),IF(periods_per_year=24,DATE(YEAR(fpdate),MONTH(fpdate)+(A53-1)/2+IF(AND(DAY(fpdate)>=15,MOD(A53,2)=0),1,0),IF(MOD(A53,2)=0,IF(DAY(fpdate)>=15,DAY(fpdate)-14,DAY(fpdate)+14),DAY(fpdate))),IF(DAY(DATE(YEAR(fpdate),MONTH(fpdate)+A53-1,DAY(fpdate)))<>DAY(fpdate),DATE(YEAR(fpdate),MONTH(fpdate)+A53,0),DATE(YEAR(fpdate),MONTH(fpdate)+A53-1,DAY(fpdate)))))) -> 43952 | C53: =IF(A53="","",IF(MOD(A53,periods_per_year)=0,A53/periods_per_year,"")) | D53: =IF(A53="","",IF(variable,IF(OR(A53=1,A53<$I$18*periods_per_year),start_rate,MIN($I$19,IF(MOD(A53-1,$I$21)=0,MAX($I$20,D52+$I$22),D52))),start_rate)) -> 0.03 | E53: =IF(A53="","",ROUND((((1+D53/CP)^(CP/periods_per_year))-1)*J52,2)) -> 361.29 | F53: =IF(A53="","",IF(A53=nper,J52+E53,MIN(J52+E53,IF(D53=D52,F52,IF($E$8="Acc Bi-Weekly",ROUND((-PMT(((1+D53/CP)^(CP/12))-1,(nper-A53+1)*12/26,J52))/2,2),IF($E$8="Acc Weekly",ROUND((-PMT(((1+D53/CP)^(CP/12))-1,(nper-A53+1)*12/52,J52))/4,2),ROUND(-PMT(((1+D53/CP)^(CP/periods_per_year))-1,nper-A53+1,J52),2))))))) -> 711.32 | G53: =IF(OR(A53="",A53<$X$2),"",IF(J52<=F53,0,IF(IF(AND(A53>=$X$2,MOD(A53-$X$2,int)=0),$X$3,0)+F53>=J52+E53,J52+E53-F53,IF(AND(A53>=$X$2,MOD(A53-$X$2,int)=0),$X$3,0)+IF(IF(AND(A53>=$X$2,MOD(A53-$X$2,int)=0),$X$3,0)+IF(MOD(A53-$X$6,periods_per_year)=0,$X$5,0)+F53<J52+E53,IF(MOD(A53-$X$6,periods_per_year)=0,$X$5,0),J52+E53-IF(AND(A53>=$X$2,MOD(A53-$X$2,int)=0),$X$3,0)-F53)))) -> 0 | I53: =IF(A53="","",F53-E53+H53+IF(G53="",0,G53)) -> 350.03 | J53: =IF(A53="","",J52-I53) -> 144166.75 | M53: =IF(S52="","",IF(OR(M52>=nper,ROUND(S52,2)<=0),"",M52+1)) -> 10 | N53: =IF(M53="","",IF(OR(periods_per_year=26,periods_per_year=52),IF(periods_per_year=26,IF(M53=1,fpdate,N52+14),IF(periods_per_year=52,IF(M53=1,fpdate,N52+7),"n/a")),IF(periods_per_year=24,DATE(YEAR(fpdate),MONTH(fpdate)+(M53-1)/2+IF(AND(DAY(fpdate)>=15,MOD(M53,2)=0),1,0),IF(MOD(M53,2)=0,IF(DAY(fpdate)>=15,DAY(fpdate)-14,DAY(fpdate)+14),DAY(fpdate))),IF(DAY(DATE(YEAR(fpdate),MONTH(fpdate)+M53-1,DAY(fpdate)))<>DAY(fpdate),DATE(YEAR(fpdate),MONTH(fpdate)+M53,0),DATE(YEAR(fpdate),MONTH(fpdate)+M53-1,DAY(fpdate)))))) -> 43739 | O53: =IF(M53="","",IF(variable,IF(M53<MortgageCalculator!$I$18*periods_per_year,start_rate,IF(MortgageCalculator!$I$22>=0,MIN(MortgageCalculator!$I$19,start_rate+MortgageCalculator!$I$22*ROUNDUP((M53-MortgageCalculator!$I$18*periods_per_year)/MortgageCalculator!$I$21,0)),MAX(MortgageCalculator!$I$20,start_rate+MortgageCalculator!$I$22*ROUNDUP((M53-MortgageCalculator!$I$18*periods_per_year)/MortgageCalculator!$I$21,0)))),start_rate)) -> 0.03 | P53: =IF(M53="","",ROUND((((1+O53/CP)^(CP/periods_per_year))-1)*S52,2)) -> 367.36 | Q53: =IF(M53="","",IF(M53=nper,S52+P53,MIN(S52+P53,IF(O53=O52,Q52,ROUND(-PMT(((1+O53/CP)^(CP/periods_per_year))-1,nper-M53+1,S52),2))))) -> 711.32 | R53: =IF(M53="","",Q53-P53) -> 343.96 | S53: =IF(M53="","",S52-R53) -> 146598.7
A54: =IF(J53="","",IF(OR(A53>=nper,ROUND(J53,2)<=0),"",A53+1)) -> 18 | B54: =IF(A54="","",IF(OR(periods_per_year=26,periods_per_year=52),IF(periods_per_year=26,IF(A54=1,fpdate,B53+14),IF(periods_per_year=52,IF(A54=1,fpdate,B53+7),"n/a")),IF(periods_per_year=24,DATE(YEAR(fpdate),MONTH(fpdate)+(A54-1)/2+IF(AND(DAY(fpdate)>=15,MOD(A54,2)=0),1,0),IF(MOD(A54,2)=0,IF(DAY(fpdate)>=15,DAY(fpdate)-14,DAY(fpdate)+14),DAY(fpdate))),IF(DAY(DATE(YEAR(fpdate),MONTH(fpdate)+A54-1,DAY(fpdate)))<>DAY(fpdate),DATE(YEAR(fpdate),MONTH(fpdate)+A54,0),DATE(YEAR(fpdate),MONTH(fpdate)+A54-1,DAY(fpdate)))))) -> 43983 | C54: =IF(A54="","",IF(MOD(A54,periods_per_year)=0,A54/periods_per_year,"")) | D54: =IF(A54="","",IF(variable,IF(OR(A54=1,A54<$I$18*periods_per_year),start_rate,MIN($I$19,IF(MOD(A54-1,$I$21)=0,MAX($I$20,D53+$I$22),D53))),start_rate)) -> 0.03 | E54: =IF(A54="","",ROUND((((1+D54/CP)^(CP/periods_per_year))-1)*J53,2)) -> 360.42 | F54: =IF(A54="","",IF(A54=nper,J53+E54,MIN(J53+E54,IF(D54=D53,F53,IF($E$8="Acc Bi-Weekly",ROUND((-PMT(((1+D54/CP)^(CP/12))-1,(nper-A54+1)*12/26,J53))/2,2),IF($E$8="Acc Weekly",ROUND((-PMT(((1+D54/CP)^(CP/12))-1,(nper-A54+1)*12/52,J53))/4,2),ROUND(-PMT(((1+D54/CP)^(CP/periods_per_year))-1,nper-A54+1,J53),2))))))) -> 711.32 | G54: =IF(OR(A54="",A54<$X$2),"",IF(J53<=F54,0,IF(IF(AND(A54>=$X$2,MOD(A54-$X$2,int)=0),$X$3,0)+F54>=J53+E54,J53+E54-F54,IF(AND(A54>=$X$2,MOD(A54-$X$2,int)=0),$X$3,0)+IF(IF(AND(A54>=$X$2,MOD(A54-$X$2,int)=0),$X$3,0)+IF(MOD(A54-$X$6,periods_per_year)=0,$X$5,0)+F54<J53+E54,IF(MOD(A54-$X$6,periods_per_year)=0,$X$5,0),J53+E54-IF(AND(A54>=$X$2,MOD(A54-$X$2,int)=0),$X$3,0)-F54)))) -> 0 | I54: =IF(A54="","",F54-E54+H54+IF(G54="",0,G54)) -> 350.9 | J54: =IF(A54="","",J53-I54) -> 143815.85 | M54: =IF(S53="","",IF(OR(M53>=nper,ROUND(S53,2)<=0),"",M53+1)) -> 11 | N54: =IF(M54="","",IF(OR(periods_per_year=26,periods_per_year=52),IF(periods_per_year=26,IF(M54=1,fpdate,N53+14),IF(periods_per_year=52,IF(M54=1,fpdate,N53+7),"n/a")),IF(periods_per_year=24,DATE(YEAR(fpdate),MONTH(fpdate)+(M54-1)/2+IF(AND(DAY(fpdate)>=15,MOD(M54,2)=0),1,0),IF(MOD(M54,2)=0,IF(DAY(fpdate)>=15,DAY(fpdate)-14,DAY(fpdate)+14),DAY(fpdate))),IF(DAY(DATE(YEAR(fpdate),MONTH(fpdate)+M54-1,DAY(fpdate)))<>DAY(fpdate),DATE(YEAR(fpdate),MONTH(fpdate)+M54,0),DATE(YEAR(fpdate),MONTH(fpdate)+M54-1,DAY(fpdate)))))) -> 43770 | O54: =IF(M54="","",IF(variable,IF(M54<MortgageCalculator!$I$18*periods_per_year,start_rate,IF(MortgageCalculator!$I$22>=0,MIN(MortgageCalculator!$I$19,start_rate+MortgageCalculator!$I$22*ROUNDUP((M54-MortgageCalculator!$I$18*periods_per_year)/MortgageCalculator!$I$21,0)),MAX(MortgageCalculator!$I$20,start_rate+MortgageCalculator!$I$22*ROUNDUP((M54-MortgageCalculator!$I$18*periods_per_year)/MortgageCalculator!$I$21,0)))),start_rate)) -> 0.03 | P54: =IF(M54="","",ROUND((((1+O54/CP)^(CP/periods_per_year))-1)*S53,2)) -> 366.5 | Q54: =IF(M54="","",IF(M54=nper,S53+P54,MIN(S53+P54,IF(O54=O53,Q53,ROUND(-PMT(((1+O54/CP)^(CP/periods_per_year))-1,nper-M54+1,S53),2))))) -> 711.32 | R54: =IF(M54="","",Q54-P54) -> 344.82 | S54: =IF(M54="","",S53-R54) -> 146253.88
A55: =IF(J54="","",IF(OR(A54>=nper,ROUND(J54,2)<=0),"",A54+1)) -> 19 | B55: =IF(A55="","",IF(OR(periods_per_year=26,periods_per_year=52),IF(periods_per_year=26,IF(A55=1,fpdate,B54+14),IF(periods_per_year=52,IF(A55=1,fpdate,B54+7),"n/a")),IF(periods_per_year=24,DATE(YEAR(fpdate),MONTH(fpdate)+(A55-1)/2+IF(AND(DAY(fpdate)>=15,MOD(A55,2)=0),1,0),IF(MOD(A55,2)=0,IF(DAY(fpdate)>=15,DAY(fpdate)-14,DAY(fpdate)+14),DAY(fpdate))),IF(DAY(DATE(YEAR(fpdate),MONTH(fpdate)+A55-1,DAY(fpdate)))<>DAY(fpdate),DATE(YEAR(fpdate),MONTH(fpdate)+A55,0),DATE(YEAR(fpdate),MONTH(fpdate)+A55-1,DAY(fpdate)))))) -> 44013 | C55: =IF(A55="","",IF(MOD(A55,periods_per_year)=0,A55/periods_per_year,"")) | D55: =IF(A55="","",IF(variable,IF(OR(A55=1,A55<$I$18*periods_per_year),start_rate,MIN($I$19,IF(MOD(A55-1,$I$21)=0,MAX($I$20,D54+$I$22),D54))),start_rate)) -> 0.03 | E55: =IF(A55="","",ROUND((((1+D55/CP)^(CP/periods_per_year))-1)*J54,2)) -> 359.54 | F55: =IF(A55="","",IF(A55=nper,J54+E55,MIN(J54+E55,IF(D55=D54,F54,IF($E$8="Acc Bi-Weekly",ROUND((-PMT(((1+D55/CP)^(CP/12))-1,(nper-A55+1)*12/26,J54))/2,2),IF($E$8="Acc Weekly",ROUND((-PMT(((1+D55/CP)^(CP/12))-1,(nper-A55+1)*12/52,J54))/4,2),ROUND(-PMT(((1+D55/CP)^(CP/periods_per_year))-1,nper-A55+1,J54),2))))))) -> 711.32 | G55: =IF(OR(A55="",A55<$X$2),"",IF(J54<=F55,0,IF(IF(AND(A55>=$X$2,MOD(A55-$X$2,int)=0),$X$3,0)+F55>=J54+E55,J54+E55-F55,IF(AND(A55>=$X$2,MOD(A55-$X$2,int)=0),$X$3,0)+IF(IF(AND(A55>=$X$2,MOD(A55-$X$2,int)=0),$X$3,0)+IF(MOD(A55-$X$6,periods_per_year)=0,$X$5,0)+F55<J54+E55,IF(MOD(A55-$X$6,periods_per_year)=0,$X$5,0),J54+E55-IF(AND(A55>=$X$2,MOD(A55-$X$2,int)=0),$X$3,0)-F55)))) -> 0 | I55: =IF(A55="","",F55-E55+H55+IF(G55="",0,G55)) -> 351.78 | J55: =IF(A55="","",J54-I55) -> 143464.07 | M55: =IF(S54="","",IF(OR(M54>=nper,ROUND(S54,2)<=0),"",M54+1)) -> 12 | N55: =IF(M55="","",IF(OR(periods_per_year=26,periods_per_year=52),IF(periods_per_year=26,IF(M55=1,fpdate,N54+14),IF(periods_per_year=52,IF(M55=1,fpdate,N54+7),"n/a")),IF(periods_per_year=24,DATE(YEAR(fpdate),MONTH(fpdate)+(M55-1)/2+IF(AND(DAY(fpdate)>=15,MOD(M55,2)=0),1,0),IF(MOD(M55,2)=0,IF(DAY(fpdate)>=15,DAY(fpdate)-14,DAY(fpdate)+14),DAY(fpdate))),IF(DAY(DATE(YEAR(fpdate),MONTH(fpdate)+M55-1,DAY(fpdate)))<>DAY(fpdate),DATE(YEAR(fpdate),MONTH(fpdate)+M55,0),DATE(YEAR(fpdate),MONTH(fpdate)+M55-1,DAY(fpdate)))))) -> 43800 | O55: =IF(M55="","",IF(variable,IF(M55<MortgageCalculator!$I$18*periods_per_year,start_rate,IF(MortgageCalculator!$I$22>=0,MIN(MortgageCalculator!$I$19,start_rate+MortgageCalculator!$I$22*ROUNDUP((M55-MortgageCalculator!$I$18*periods_per_year)/MortgageCalculator!$I$21,0)),MAX(MortgageCalculator!$I$20,start_rate+MortgageCalculator!$I$22*ROUNDUP((M55-MortgageCalculator!$I$18*periods_per_year)/MortgageCalculator!$I$21,0)))),start_rate)) -> 0.03 | P55: =IF(M55="","",ROUND((((1+O55/CP)^(CP/periods_per_year))-1)*S54,2)) -> 365.63 | Q55: =IF(M55="","",IF(M55=nper,S54+P55,MIN(S54+P55,IF(O55=O54,Q54,ROUND(-PMT(((1+O55/CP)^(CP/periods_per_year))-1,nper-M55+1,S54),2))))) -> 711.32 | R55: =IF(M55="","",Q55-P55) -> 345.69 | S55: =IF(M55="","",S54-R55) -> 145908.19
... A394: =IF(J393="","",IF(OR(A393>=nper,ROUND(J393,2)<=0),"",A393+1)) | B394: =IF(A394="","",IF(OR(periods_per_year=26,periods_per_year=52),IF(periods_per_year=26,IF(A394=1,fpdate,B393+14),IF(periods_per_year=52,IF(A394=1,fpdate,B393+7),"n/a")),IF(periods_per_year=24,DATE(YEAR(fpdate),MONTH(fpdate)+(A394-1)/2+IF(AND(DAY(fpdate)>=15,MOD(A394,2)=0),1,0),IF(MOD(A394,2)=0,IF(DAY(fpdate)>=15,DAY(fpdate)-14,DAY(fpdate)+14),DAY(fpdate))),IF(DAY(DATE(YEAR(fpdate),MONTH(fpdate)+A394-1,DAY(fpdate)))<>DAY(fpdate),DATE(YEAR(fpdate),MONTH(fpdate)+A394,0),DATE(YEAR(fpdate),MONTH(fpdate)+A394-1,DAY(fpdate)))))) | C394: =IF(A394="","",IF(MOD(A394,periods_per_year)=0,A394/periods_per_year,"")) | D394: =IF(A394="","",IF(variable,IF(OR(A394=1,A394<$I$18*periods_per_year),start_rate,MIN($I$19,IF(MOD(A394-1,$I$21)=0,MAX($I$20,D393+$I$22),D393))),start_rate)) | E394: =IF(A394="","",ROUND((((1+D394/CP)^(CP/periods_per_year))-1)*J393,2)) | F394: =IF(A394="","",IF(A394=nper,J393+E394,MIN(J393+E394,IF(D394=D393,F393,IF($E$8="Acc Bi-Weekly",ROUND((-PMT(((1+D394/CP)^(CP/12))-1,(nper-A394+1)*12/26,J393))/2,2),IF($E$8="Acc Weekly",ROUND((-PMT(((1+D394/CP)^(CP/12))-1,(nper-A394+1)*12/52,J393))/4,2),ROUND(-PMT(((1+D394/CP)^(CP/periods_per_year))-1,nper-A394+1,J393),2))))))) | G394: =IF(OR(A394="",A394<$X$2),"",IF(J393<=F394,0,IF(IF(AND(A394>=$X$2,MOD(A394-$X$2,int)=0),$X$3,0)+F394>=J393+E394,J393+E394-F394,IF(AND(A394>=$X$2,MOD(A394-$X$2,int)=0),$X$3,0)+IF(IF(AND(A394>=$X$2,MOD(A394-$X$2,int)=0),$X$3,0)+IF(MOD(A394-$X$6,periods_per_year)=0,$X$5,0)+F394<J393+E394,IF(MOD(A394-$X$6,periods_per_year)=0,$X$5,0),J393+E394-IF(AND(A394>=$X$2,MOD(A394-$X$2,int)=0),$X$3,0)-F394)))) | I394: =IF(A394="","",F394-E394+H394+IF(G394="",0,G394)) | J394: =IF(A394="","",J393-I394) | M394: =IF(S393="","",IF(OR(M393>=nper,ROUND(S393,2)<=0),"",M393+1)) | N394: =IF(M394="","",IF(OR(periods_per_year=26,periods_per_year=52),IF(periods_per_year=26,IF(M394=1,fpdate,N393+14),IF(periods_per_year=52,IF(M394=1,fpdate,N393+7),"n/a")),IF(periods_per_year=24,DATE(YEAR(fpdate),MONTH(fpdate)+(M394-1)/2+IF(AND(DAY(fpdate)>=15,MOD(M394,2)=0),1,0),IF(MOD(M394,2)=0,IF(DAY(fpdate)>=15,DAY(fpdate)-14,DAY(fpdate)+14),DAY(fpdate))),IF(DAY(DATE(YEAR(fpdate),MONTH(fpdate)+M394-1,DAY(fpdate)))<>DAY(fpdate),DATE(YEAR(fpdate),MONTH(fpdate)+M394,0),DATE(YEAR(fpdate),MONTH(fpdate)+M394-1,DAY(fpdate)))))) | O394: =IF(M394="","",IF(variable,IF(M394<MortgageCalculator!$I$18*periods_per_year,start_rate,IF(MortgageCalculator!$I$22>=0,MIN(MortgageCalculator!$I$19,start_rate+MortgageCalculator!$I$22*ROUNDUP((M394-MortgageCalculator!$I$18*periods_per_year)/MortgageCalculator!$I$21,0)),MAX(MortgageCalculator!$I$20,start_rate+MortgageCalculator!$I$22*ROUNDUP((M394-MortgageCalculator!$I$18*periods_per_year)/MortgageCalculator!$I$21,0)))),start_rate)) | P394: =IF(M394="","",ROUND((((1+O394/CP)^(CP/periods_per_year))-1)*S393,2)) | Q394: =IF(M394="","",IF(M394=nper,S393+P394,MIN(S393+P394,IF(O394=O393,Q393,ROUND(-PMT(((1+O394/CP)^(CP/periods_per_year))-1,nper-M394+1,S393),2))))) | R394: =IF(M394="","",Q394-P394) | S394: =IF(M394="","",S393-R394)
M395: =IF(S394="","",IF(OR(M394>=nper,ROUND(S394,2)<=0),"",M394+1)) | N395: =IF(M395="","",IF(OR(periods_per_year=26,periods_per_year=52),IF(periods_per_year=26,IF(M395=1,fpdate,N394+14),IF(periods_per_year=52,IF(M395=1,fpdate,N394+7),"n/a")),IF(periods_per_year=24,DATE(YEAR(fpdate),MONTH(fpdate)+(M395-1)/2+IF(AND(DAY(fpdate)>=15,MOD(M395,2)=0),1,0),IF(MOD(M395,2)=0,IF(DAY(fpdate)>=15,DAY(fpdate)-14,DAY(fpdate)+14),DAY(fpdate))),IF(DAY(DATE(YEAR(fpdate),MONTH(fpdate)+M395-1,DAY(fpdate)))<>DAY(fpdate),DATE(YEAR(fpdate),MONTH(fpdate)+M395,0),DATE(YEAR(fpdate),MONTH(fpdate)+M395-1,DAY(fpdate)))))) | O395: =IF(M395="","",IF(variable,IF(M395<MortgageCalculator!$I$18*periods_per_year,start_rate,IF(MortgageCalculator!$I$22>=0,MIN(MortgageCalculator!$I$19,start_rate+MortgageCalculator!$I$22*ROUNDUP((M395-MortgageCalculator!$I$18*periods_per_year)/MortgageCalculator!$I$21,0)),MAX(MortgageCalculator!$I$20,start_rate+MortgageCalculator!$I$22*ROUNDUP((M395-MortgageCalculator!$I$18*periods_per_year)/MortgageCalculator!$I$21,0)))),start_rate)) | P395: =IF(M395="","",ROUND((((1+O395/CP)^(CP/periods_per_year))-1)*S394,2)) | Q395: =IF(M395="","",IF(M395=nper,S394+P395,MIN(S394+P395,IF(O395=O394,Q394,ROUND(-PMT(((1+O395/CP)^(CP/periods_per_year))-1,nper-M395+1,S394),2))))) | R395: =IF(M395="","",Q395-P395) | S395: =IF(M395="","",S394-R395)
M396: =IF(S395="","",IF(OR(M395>=nper,ROUND(S395,2)<=0),"",M395+1)) | N396: =IF(M396="","",IF(OR(periods_per_year=26,periods_per_year=52),IF(periods_per_year=26,IF(M396=1,fpdate,N395+14),IF(periods_per_year=52,IF(M396=1,fpdate,N395+7),"n/a")),IF(periods_per_year=24,DATE(YEAR(fpdate),MONTH(fpdate)+(M396-1)/2+IF(AND(DAY(fpdate)>=15,MOD(M396,2)=0),1,0),IF(MOD(M396,2)=0,IF(DAY(fpdate)>=15,DAY(fpdate)-14,DAY(fpdate)+14),DAY(fpdate))),IF(DAY(DATE(YEAR(fpdate),MONTH(fpdate)+M396-1,DAY(fpdate)))<>DAY(fpdate),DATE(YEAR(fpdate),MONTH(fpdate)+M396,0),DATE(YEAR(fpdate),MONTH(fpdate)+M396-1,DAY(fpdate)))))) | O396: =IF(M396="","",IF(variable,IF(M396<MortgageCalculator!$I$18*periods_per_year,start_rate,IF(MortgageCalculator!$I$22>=0,MIN(MortgageCalculator!$I$19,start_rate+MortgageCalculator!$I$22*ROUNDUP((M396-MortgageCalculator!$I$18*periods_per_year)/MortgageCalculator!$I$21,0)),MAX(MortgageCalculator!$I$20,start_rate+MortgageCalculator!$I$22*ROUNDUP((M396-MortgageCalculator!$I$18*periods_per_year)/MortgageCalculator!$I$21,0)))),start_rate)) | P396: =IF(M396="","",ROUND((((1+O396/CP)^(CP/periods_per_year))-1)*S395,2)) | Q396: =IF(M396="","",IF(M396=nper,S395+P396,MIN(S395+P396,IF(O396=O395,Q395,ROUND(-PMT(((1+O396/CP)^(CP/periods_per_year))-1,nper-M396+1,S395),2))))) | R396: =IF(M396="","",Q396-P396) | S396: =IF(M396="","",S395-R396)
M397: =IF(S396="","",IF(OR(M396>=nper,ROUND(S396,2)<=0),"",M396+1)) | N397: =IF(M397="","",IF(OR(periods_per_year=26,periods_per_year=52),IF(periods_per_year=26,IF(M397=1,fpdate,N396+14),IF(periods_per_year=52,IF(M397=1,fpdate,N396+7),"n/a")),IF(periods_per_year=24,DATE(YEAR(fpdate),MONTH(fpdate)+(M397-1)/2+IF(AND(DAY(fpdate)>=15,MOD(M397,2)=0),1,0),IF(MOD(M397,2)=0,IF(DAY(fpdate)>=15,DAY(fpdate)-14,DAY(fpdate)+14),DAY(fpdate))),IF(DAY(DATE(YEAR(fpdate),MONTH(fpdate)+M397-1,DAY(fpdate)))<>DAY(fpdate),DATE(YEAR(fpdate),MONTH(fpdate)+M397,0),DATE(YEAR(fpdate),MONTH(fpdate)+M397-1,DAY(fpdate)))))) | O397: =IF(M397="","",IF(variable,IF(M397<MortgageCalculator!$I$18*periods_per_year,start_rate,IF(MortgageCalculator!$I$22>=0,MIN(MortgageCalculator!$I$19,start_rate+MortgageCalculator!$I$22*ROUNDUP((M397-MortgageCalculator!$I$18*periods_per_year)/MortgageCalculator!$I$21,0)),MAX(MortgageCalculator!$I$20,start_rate+MortgageCalculator!$I$22*ROUNDUP((M397-MortgageCalculator!$I$18*periods_per_year)/MortgageCalculator!$I$21,0)))),start_rate)) | P397: =IF(M397="","",ROUND((((1+O397/CP)^(CP/periods_per_year))-1)*S396,2)) | Q397: =IF(M397="","",IF(M397=nper,S396+P397,MIN(S396+P397,IF(O397=O396,Q396,ROUND(-PMT(((1+O397/CP)^(CP/periods_per_year))-1,nper-M397+1,S396),2))))) | R397: =IF(M397="","",Q397-P397) | S397: =IF(M397="","",S396-R397)
...

Sheet Help
A1: HELP
